BEGIN:VCALENDAR
VERSION:2.0
PRODID:-//jEvents 2.0 for Joomla//EN
CALSCALE:GREGORIAN
METHOD:PUBLISH
BEGIN:VEVENT
UID:e69fb95d778728ed4398c02d89d7cff5
CATEGORIES:Ski
CREATED:20191022T094458
SUMMARY:Sortie Progression Journée Aravis - E. Persoud
DESCRIPTION:
DTSTAMP:20260425T031147
DTSTART;VALUE=DATE:20200216
DTEND;VALUE=DATE:20200217
SEQUENCE:0
TRANSP:OPAQUE
END:VEVENT
END:VCALENDAR