BEGIN:VCALENDAR
VERSION:2.0
PRODID:-//jEvents 2.0 for Joomla//EN
CALSCALE:GREGORIAN
METHOD:PUBLISH
BEGIN:VEVENT
UID:c9780e0eb632682e3633f93b00281c69
CATEGORIES:Ski
CREATED:20201013T161115
SUMMARY:Sortie initiation - Bruno 
DESCRIPTION:
DTSTAMP:20260421T122915
DTSTART;VALUE=DATE:20210117
DTEND;VALUE=DATE:20210118
SEQUENCE:0
TRANSP:OPAQUE
END:VEVENT
END:VCALENDAR