BEGIN:VCALENDAR
VERSION:2.0
PRODID:-//jEvents 2.0 for Joomla//EN
CALSCALE:GREGORIAN
METHOD:PUBLISH
BEGIN:VEVENT
UID:a85408410bb8c8db4a36c863ac2d970c
CATEGORIES:Permanences
CREATED:20201020T174054
SUMMARY:ANNULE Permanence - Barbara et David
DESCRIPTION:
DTSTAMP:20260422T085145
DTSTART:20201210T180000
DTEND:20201210T190000
SEQUENCE:0
TRANSP:OPAQUE
END:VEVENT
END:VCALENDAR